BEGIN:VCALENDAR
VERSION:2.0
PRODID:-//Holistic Institute of Wellness - ECPv6.8.1//NONSGML v1.0//EN
CALSCALE:GREGORIAN
METHOD:PUBLISH
X-ORIGINAL-URL:https://holisticinstituteofwellness.com
X-WR-CALDESC:Events for Holistic Institute of Wellness
REFRESH-INTERVAL;VALUE=DURATION:PT1H
X-Robots-Tag:noindex
X-PUBLISHED-TTL:PT1H
BEGIN:VTIMEZONE
TZID:America/Kentucky/Louisville
BEGIN:DAYLIGHT
TZOFFSETFROM:-0500
TZOFFSETTO:-0400
TZNAME:EDT
DTSTART:20220313T070000
END:DAYLIGHT
BEGIN:STANDARD
TZOFFSETFROM:-0400
TZOFFSETTO:-0500
TZNAME:EST
DTSTART:20221106T060000
END:STANDARD
BEGIN:DAYLIGHT
TZOFFSETFROM:-0500
TZOFFSETTO:-0400
TZNAME:EDT
DTSTART:20230312T070000
END:DAYLIGHT
BEGIN:STANDARD
TZOFFSETFROM:-0400
TZOFFSETTO:-0500
TZNAME:EST
DTSTART:20231105T060000
END:STANDARD
END:VTIMEZONE
BEGIN:VEVENT
DTSTART;TZID=America/Kentucky/Louisville:20230921T160000
DTEND;TZID=America/Kentucky/Louisville:20230924T180000
DTSTAMP:20260424T104433
CREATED:20220306T195846Z
LAST-MODIFIED:20230622T204110Z
UID:9270-1695312000-1695578400@holisticinstituteofwellness.com
SUMMARY:Reiki III/Mastership
DESCRIPTION:This is a 4 DAY retreat September 21st – 24th\, 9:00am to 6:00pm each day.\nCheck-in is Thursday Sept 21st\, around 4:00 pm\, dinner around 6:00pm. Location TBD. Check out is on Monday morning.\nIn this weekend retreat Fri – Sun will be three full days of teaching and training interwoven with fun activities and personal time for reflection and integration. There will be a brief review of levels I and II. You will receive additional attunements and symbols. You will also practice giving attunements and hands on treatments. \n			\n			\n				\n				\n				\n				\n				\n				\n				\n				\n				\n				\n			\n			\n				\n				\n				\n				\n			\n				\n				\n				\n				\n				\n				\n				\n				\n				\n				\n				Reiki III/Mastership is a soul commitment that one must be ready to make on all levels…mental\, physical\, emotional and spiritual. This retreat is for those who are ready for that next step in self development and those who are looking to advance their skills as  practitioners. At this level\,  Reiki is not only a practice but truly becomes a way of life in self-mastery.  \nReiki I and II are prerequisites.  Mastership has fundamental requirements in addition to an application and interview process. Please follow the link and check them out thoroughly. We do ask that you take time to contemplate all of this before deciding on Mastership as the next step on your spiritual journey. Applications are due no later than 12/1/2022 and interviews will begin January 2023. The application link is on the Requirements page. \nUpon completion\, you will receive a Reiki III Certificate in Usui Shiki Ryoho Reiki through the Holistic Institute of Wellness. \nThe full 3 day class fee is $995.   A non-refundable deposit of $375.00 is required to secure your spot. This deposit is applied toward your class fee. \n			\n			\n				\n				\n				\n				\n			\n				\n				\n				\n				\n				\n				\n			\n				\n				\n				\n				\n				\n				\n				\n				\n				\n				If you have received confirmation:\n			\n			\n				\n				\n				\n				\n				\n				\n				\n				\n				\n				\n\n			\n			\n				\n				\n				\n				\n				\n				\n				\n				\n				\n				 \n\n			\n			\n				\n				\n				\n				\n			\n				\n				\n				\n				\n				\n				\n				\n				\n				\n				\n				Please note:  The Holistic Institute of Wellness is a smoke free environment and does not permit smoking or vaping in or around the building during the entirety of our workshops and classes. All participants are asked to refrain from smoking and vaping  especially those embarking on the Reiki sacred journey.
URL:https://holisticinstituteofwellness.com/event/reiki-iii-sept-2023/
LOCATION:The Avenue\, 141 N Martinwood Rd\, Knoxville\, TN\, 37923
CATEGORIES:Retreats
ATTACH;FMTTYPE=image/jpeg:https://holisticinstituteofwellness.com/wp-content/uploads/2023/01/reiki-master-retreat.jpg
ORGANIZER;CN="HIW Team":MAILTO:carolyn@holisticinstituteofwellness.com
END:VEVENT
BEGIN:VEVENT
DTSTART;TZID=America/Kentucky/Louisville:20220922T160000
DTEND;TZID=America/Kentucky/Louisville:20220925T180000
DTSTAMP:20260424T104433
CREATED:20211115T210522Z
LAST-MODIFIED:20220426T211841Z
UID:8616-1663862400-1664128800@holisticinstituteofwellness.com
SUMMARY:Reiki III/Mastership - now FULL
DESCRIPTION:Class if now FULL\nThis is a 4 DAY retreat September 22nd – 25th\, 9:00am to 6:00pm each day.\nCheck-in is Thursday Sept 22nd\, around 4:00 pm\, dinner around 6:00pm. Location TBD. Check out Monday morning.\nReiki III/Mastership is a soul commitment that one must be ready to make on all levels…mental\, physical\, emotional and spiritual. This retreat is for those who are ready for that next step in self development and those who are looking to advance their skills as  practitioners. At this level\,  Reiki is not only a practice but truly becomes a way of life in self-mastery.  \n			\n			\n				\n				\n				\n				\n				\n				\n				\n				\n				\n				\n			\n			\n				\n				\n				\n				\n			\n				\n				\n				\n				\n				\n				\n				\n				\n				\n				\n				Reiki I and Reiki II are prerequisites and Mastership has requirements in addition to the application process. We do ask that you take time to contemplate all of this before deciding on this as the next step for you in your spiritual journey. \nIn this weekend retreat Fri – Sun will be three full days of teaching and training interwoven with fun activities and personal time for reflection and integration. There will be a brief review of levels I and II. You will receive additional attunements and symbols. You will also practice giving attunements and hands on treatments. \nUpon completion\, you will receive a Reiki III Certificate in Usui Shiki Ryoho Reiki through the Holistic Institute of Wellness. \nThe full 3 day class fee is $995.   A non-refundable deposit of $375.00 is required to secure your spot. This deposit is applied toward your class fee. \n			\n			\n				\n				\n				\n				\n			\n				\n				\n				\n				\n				\n				\n			\n				\n				\n				\n				\n				\n				\n				\n				\n				\n				If you have received confirmation:\n			\n			\n				\n				\n				\n				\n				\n				\n				\n				\n				\n				\n			\n			\n				\n				\n				\n				\n			\n				\n				\n				\n				\n				\n				\n				\n				\n				\n				\n				Please note:  The Holistic Institute of Wellness is a smoke free environment and does not permit smoking or vaping in or around the building during the entirety of our workshops and classes. All participants are asked to refrain from smoking and vaping  especially those embarking on the Reiki sacred journey.
URL:https://holisticinstituteofwellness.com/event/reiki-iii-sept-2022/
CATEGORIES:Retreats,Workshops
ATTACH;FMTTYPE=image/jpeg:https://holisticinstituteofwellness.com/wp-content/uploads/2022/01/Bridge300-240.jpg
ORGANIZER;CN="HIW Team":MAILTO:carolyn@holisticinstituteofwellness.com
END:VEVENT
END:VCALENDAR